BEGIN:VCALENDAR
VERSION:2.0
PRODID:-//International Gospel Fellowship - ECPv6.15.20//NONSGML v1.0//EN
CALSCALE:GREGORIAN
METHOD:PUBLISH
X-WR-CALNAME:International Gospel Fellowship
X-ORIGINAL-URL:https://igfchurch.com
X-WR-CALDESC:Events for International Gospel Fellowship
REFRESH-INTERVAL;VALUE=DURATION:PT1H
X-Robots-Tag:noindex
X-PUBLISHED-TTL:PT1H
BEGIN:VTIMEZONE
TZID:America/New_York
BEGIN:DAYLIGHT
TZOFFSETFROM:-0500
TZOFFSETTO:-0400
TZNAME:EDT
DTSTART:20220313T070000
END:DAYLIGHT
BEGIN:STANDARD
TZOFFSETFROM:-0400
TZOFFSETTO:-0500
TZNAME:EST
DTSTART:20221106T060000
END:STANDARD
BEGIN:DAYLIGHT
TZOFFSETFROM:-0500
TZOFFSETTO:-0400
TZNAME:EDT
DTSTART:20230312T070000
END:DAYLIGHT
BEGIN:STANDARD
TZOFFSETFROM:-0400
TZOFFSETTO:-0500
TZNAME:EST
DTSTART:20231105T060000
END:STANDARD
BEGIN:DAYLIGHT
TZOFFSETFROM:-0500
TZOFFSETTO:-0400
TZNAME:EDT
DTSTART:20240310T070000
END:DAYLIGHT
BEGIN:STANDARD
TZOFFSETFROM:-0400
TZOFFSETTO:-0500
TZNAME:EST
DTSTART:20241103T060000
END:STANDARD
BEGIN:DAYLIGHT
TZOFFSETFROM:-0500
TZOFFSETTO:-0400
TZNAME:EDT
DTSTART:20250309T070000
END:DAYLIGHT
BEGIN:STANDARD
TZOFFSETFROM:-0400
TZOFFSETTO:-0500
TZNAME:EST
DTSTART:20251102T060000
END:STANDARD
END:VTIMEZONE
BEGIN:VEVENT
DTSTART;TZID=America/New_York:20240728T100000
DTEND;TZID=America/New_York:20240728T123000
DTSTAMP:20260419T111937
CREATED:20210104T180416Z
LAST-MODIFIED:20240213T162117Z
UID:4605-1722160800-1722169800@igfchurch.com
SUMMARY:Sunday Service
DESCRIPTION:Worship with us every Sunday Morning in person or online at 10:00 am EST! Our service will be online available on Youtube!
URL:https://igfchurch.com/event/sunday-service-2023-12-31-2024-07-28/
LOCATION:IGF Santuary\, 650 Park Ave\, Windsor\, CT\, 06095\, United States
CATEGORIES:Upcoming Events
ATTACH;FMTTYPE=image/jpeg:https://igfchurch.com/wp-content/uploads/2021/01/March-events_sunday-scaled.jpg
END:VEVENT
BEGIN:VEVENT
DTSTART;TZID=America/New_York:20240721T100000
DTEND;TZID=America/New_York:20240721T123000
DTSTAMP:20260419T111937
CREATED:20210104T180416Z
LAST-MODIFIED:20240213T162117Z
UID:4604-1721556000-1721565000@igfchurch.com
SUMMARY:Sunday Service
DESCRIPTION:Worship with us every Sunday Morning in person or online at 10:00 am EST! Our service will be online available on Youtube!
URL:https://igfchurch.com/event/sunday-service-2023-12-31-2024-07-21/
LOCATION:IGF Santuary\, 650 Park Ave\, Windsor\, CT\, 06095\, United States
CATEGORIES:Upcoming Events
ATTACH;FMTTYPE=image/jpeg:https://igfchurch.com/wp-content/uploads/2021/01/March-events_sunday-scaled.jpg
END:VEVENT
BEGIN:VEVENT
DTSTART;TZID=America/New_York:20240714T100000
DTEND;TZID=America/New_York:20240714T123000
DTSTAMP:20260419T111937
CREATED:20210104T180416Z
LAST-MODIFIED:20240213T162116Z
UID:4603-1720951200-1720960200@igfchurch.com
SUMMARY:Sunday Service
DESCRIPTION:Worship with us every Sunday Morning in person or online at 10:00 am EST! Our service will be online available on Youtube!
URL:https://igfchurch.com/event/sunday-service-2023-12-31-2024-07-14/
LOCATION:IGF Santuary\, 650 Park Ave\, Windsor\, CT\, 06095\, United States
CATEGORIES:Upcoming Events
ATTACH;FMTTYPE=image/jpeg:https://igfchurch.com/wp-content/uploads/2021/01/March-events_sunday-scaled.jpg
END:VEVENT
BEGIN:VEVENT
DTSTART;TZID=America/New_York:20240707T100000
DTEND;TZID=America/New_York:20240707T123000
DTSTAMP:20260419T111937
CREATED:20210104T180416Z
LAST-MODIFIED:20240213T162116Z
UID:4602-1720346400-1720355400@igfchurch.com
SUMMARY:Sunday Service
DESCRIPTION:Worship with us every Sunday Morning in person or online at 10:00 am EST! Our service will be online available on Youtube!
URL:https://igfchurch.com/event/sunday-service-2023-12-31-2024-07-07/
LOCATION:IGF Santuary\, 650 Park Ave\, Windsor\, CT\, 06095\, United States
CATEGORIES:Upcoming Events
ATTACH;FMTTYPE=image/jpeg:https://igfchurch.com/wp-content/uploads/2021/01/March-events_sunday-scaled.jpg
END:VEVENT
BEGIN:VEVENT
DTSTART;TZID=America/New_York:20240630T100000
DTEND;TZID=America/New_York:20240630T123000
DTSTAMP:20260419T111937
CREATED:20210104T180416Z
LAST-MODIFIED:20240213T162116Z
UID:4601-1719741600-1719750600@igfchurch.com
SUMMARY:Sunday Service
DESCRIPTION:Worship with us every Sunday Morning in person or online at 10:00 am EST! Our service will be online available on Youtube!
URL:https://igfchurch.com/event/sunday-service-2023-12-31-2024-06-30/
LOCATION:IGF Santuary\, 650 Park Ave\, Windsor\, CT\, 06095\, United States
CATEGORIES:Upcoming Events
ATTACH;FMTTYPE=image/jpeg:https://igfchurch.com/wp-content/uploads/2021/01/March-events_sunday-scaled.jpg
END:VEVENT
BEGIN:VEVENT
DTSTART;TZID=America/New_York:20240623T100000
DTEND;TZID=America/New_York:20240623T123000
DTSTAMP:20260419T111937
CREATED:20210104T180416Z
LAST-MODIFIED:20240213T162115Z
UID:4600-1719136800-1719145800@igfchurch.com
SUMMARY:Sunday Service
DESCRIPTION:Worship with us every Sunday Morning in person or online at 10:00 am EST! Our service will be online available on Youtube!
URL:https://igfchurch.com/event/sunday-service-2023-12-31-2024-06-23/
LOCATION:IGF Santuary\, 650 Park Ave\, Windsor\, CT\, 06095\, United States
CATEGORIES:Upcoming Events
ATTACH;FMTTYPE=image/jpeg:https://igfchurch.com/wp-content/uploads/2021/01/March-events_sunday-scaled.jpg
END:VEVENT
BEGIN:VEVENT
DTSTART;TZID=America/New_York:20240616T100000
DTEND;TZID=America/New_York:20240616T123000
DTSTAMP:20260419T111937
CREATED:20210104T180416Z
LAST-MODIFIED:20240213T162115Z
UID:4599-1718532000-1718541000@igfchurch.com
SUMMARY:Sunday Service
DESCRIPTION:Worship with us every Sunday Morning in person or online at 10:00 am EST! Our service will be online available on Youtube!
URL:https://igfchurch.com/event/sunday-service-2023-12-31-2024-06-16/
LOCATION:IGF Santuary\, 650 Park Ave\, Windsor\, CT\, 06095\, United States
CATEGORIES:Upcoming Events
ATTACH;FMTTYPE=image/jpeg:https://igfchurch.com/wp-content/uploads/2021/01/March-events_sunday-scaled.jpg
END:VEVENT
BEGIN:VEVENT
DTSTART;TZID=America/New_York:20240609T100000
DTEND;TZID=America/New_York:20240609T123000
DTSTAMP:20260419T111937
CREATED:20210104T180416Z
LAST-MODIFIED:20240213T162115Z
UID:4598-1717927200-1717936200@igfchurch.com
SUMMARY:Sunday Service
DESCRIPTION:Worship with us every Sunday Morning in person or online at 10:00 am EST! Our service will be online available on Youtube!
URL:https://igfchurch.com/event/sunday-service-2023-12-31-2024-06-09/
LOCATION:IGF Santuary\, 650 Park Ave\, Windsor\, CT\, 06095\, United States
CATEGORIES:Upcoming Events
ATTACH;FMTTYPE=image/jpeg:https://igfchurch.com/wp-content/uploads/2021/01/March-events_sunday-scaled.jpg
END:VEVENT
BEGIN:VEVENT
DTSTART;TZID=America/New_York:20240602T100000
DTEND;TZID=America/New_York:20240602T123000
DTSTAMP:20260419T111937
CREATED:20210104T180416Z
LAST-MODIFIED:20240213T162114Z
UID:4597-1717322400-1717331400@igfchurch.com
SUMMARY:Sunday Service
DESCRIPTION:Worship with us every Sunday Morning in person or online at 10:00 am EST! Our service will be online available on Youtube!
URL:https://igfchurch.com/event/sunday-service-2023-12-31-2024-06-02/
LOCATION:IGF Santuary\, 650 Park Ave\, Windsor\, CT\, 06095\, United States
CATEGORIES:Upcoming Events
ATTACH;FMTTYPE=image/jpeg:https://igfchurch.com/wp-content/uploads/2021/01/March-events_sunday-scaled.jpg
END:VEVENT
BEGIN:VEVENT
DTSTART;TZID=America/New_York:20240526T100000
DTEND;TZID=America/New_York:20240526T123000
DTSTAMP:20260419T111937
CREATED:20210104T180416Z
LAST-MODIFIED:20240213T162114Z
UID:4596-1716717600-1716726600@igfchurch.com
SUMMARY:Sunday Service
DESCRIPTION:Worship with us every Sunday Morning in person or online at 10:00 am EST! Our service will be online available on Youtube!
URL:https://igfchurch.com/event/sunday-service-2023-12-31-2024-05-26/
LOCATION:IGF Santuary\, 650 Park Ave\, Windsor\, CT\, 06095\, United States
CATEGORIES:Upcoming Events
ATTACH;FMTTYPE=image/jpeg:https://igfchurch.com/wp-content/uploads/2021/01/March-events_sunday-scaled.jpg
END:VEVENT
BEGIN:VEVENT
DTSTART;TZID=America/New_York:20240519T100000
DTEND;TZID=America/New_York:20240519T123000
DTSTAMP:20260419T111937
CREATED:20210104T180416Z
LAST-MODIFIED:20240213T162113Z
UID:4595-1716112800-1716121800@igfchurch.com
SUMMARY:Sunday Service
DESCRIPTION:Worship with us every Sunday Morning in person or online at 10:00 am EST! Our service will be online available on Youtube!
URL:https://igfchurch.com/event/sunday-service-2023-12-31-2024-05-19/
LOCATION:IGF Santuary\, 650 Park Ave\, Windsor\, CT\, 06095\, United States
CATEGORIES:Upcoming Events
ATTACH;FMTTYPE=image/jpeg:https://igfchurch.com/wp-content/uploads/2021/01/March-events_sunday-scaled.jpg
END:VEVENT
BEGIN:VEVENT
DTSTART;TZID=America/New_York:20240512T100000
DTEND;TZID=America/New_York:20240512T123000
DTSTAMP:20260419T111937
CREATED:20210104T180416Z
LAST-MODIFIED:20240213T162112Z
UID:4594-1715508000-1715517000@igfchurch.com
SUMMARY:Sunday Service
DESCRIPTION:Worship with us every Sunday Morning in person or online at 10:00 am EST! Our service will be online available on Youtube!
URL:https://igfchurch.com/event/sunday-service-2023-12-31-2024-05-12/
LOCATION:IGF Santuary\, 650 Park Ave\, Windsor\, CT\, 06095\, United States
CATEGORIES:Upcoming Events
ATTACH;FMTTYPE=image/jpeg:https://igfchurch.com/wp-content/uploads/2021/01/March-events_sunday-scaled.jpg
END:VEVENT
BEGIN:VEVENT
DTSTART;TZID=America/New_York:20240505T100000
DTEND;TZID=America/New_York:20240505T123000
DTSTAMP:20260419T111937
CREATED:20210104T180416Z
LAST-MODIFIED:20240213T162112Z
UID:4593-1714903200-1714912200@igfchurch.com
SUMMARY:Sunday Service
DESCRIPTION:Worship with us every Sunday Morning in person or online at 10:00 am EST! Our service will be online available on Youtube!
URL:https://igfchurch.com/event/sunday-service-2023-12-31-2024-05-05/
LOCATION:IGF Santuary\, 650 Park Ave\, Windsor\, CT\, 06095\, United States
CATEGORIES:Upcoming Events
ATTACH;FMTTYPE=image/jpeg:https://igfchurch.com/wp-content/uploads/2021/01/March-events_sunday-scaled.jpg
END:VEVENT
BEGIN:VEVENT
DTSTART;TZID=America/New_York:20240428T100000
DTEND;TZID=America/New_York:20240428T123000
DTSTAMP:20260419T111937
CREATED:20210104T180416Z
LAST-MODIFIED:20240213T162112Z
UID:4592-1714298400-1714307400@igfchurch.com
SUMMARY:Sunday Service
DESCRIPTION:Worship with us every Sunday Morning in person or online at 10:00 am EST! Our service will be online available on Youtube!
URL:https://igfchurch.com/event/sunday-service-2023-12-31-2024-04-28/
LOCATION:IGF Santuary\, 650 Park Ave\, Windsor\, CT\, 06095\, United States
CATEGORIES:Upcoming Events
ATTACH;FMTTYPE=image/jpeg:https://igfchurch.com/wp-content/uploads/2021/01/March-events_sunday-scaled.jpg
END:VEVENT
BEGIN:VEVENT
DTSTART;TZID=America/New_York:20240421T100000
DTEND;TZID=America/New_York:20240421T123000
DTSTAMP:20260419T111937
CREATED:20210104T180416Z
LAST-MODIFIED:20240213T162112Z
UID:4591-1713693600-1713702600@igfchurch.com
SUMMARY:Sunday Service
DESCRIPTION:Worship with us every Sunday Morning in person or online at 10:00 am EST! Our service will be online available on Youtube!
URL:https://igfchurch.com/event/sunday-service-2023-12-31-2024-04-21/
LOCATION:IGF Santuary\, 650 Park Ave\, Windsor\, CT\, 06095\, United States
CATEGORIES:Upcoming Events
ATTACH;FMTTYPE=image/jpeg:https://igfchurch.com/wp-content/uploads/2021/01/March-events_sunday-scaled.jpg
END:VEVENT
BEGIN:VEVENT
DTSTART;TZID=America/New_York:20240414T100000
DTEND;TZID=America/New_York:20240414T123000
DTSTAMP:20260419T111937
CREATED:20210104T180416Z
LAST-MODIFIED:20240213T162111Z
UID:4590-1713088800-1713097800@igfchurch.com
SUMMARY:Sunday Service
DESCRIPTION:Worship with us every Sunday Morning in person or online at 10:00 am EST! Our service will be online available on Youtube!
URL:https://igfchurch.com/event/sunday-service-2023-12-31-2024-04-14/
LOCATION:IGF Santuary\, 650 Park Ave\, Windsor\, CT\, 06095\, United States
CATEGORIES:Upcoming Events
ATTACH;FMTTYPE=image/jpeg:https://igfchurch.com/wp-content/uploads/2021/01/March-events_sunday-scaled.jpg
END:VEVENT
BEGIN:VEVENT
DTSTART;TZID=America/New_York:20240407T100000
DTEND;TZID=America/New_York:20240407T123000
DTSTAMP:20260419T111937
CREATED:20210104T180416Z
LAST-MODIFIED:20240213T162111Z
UID:4589-1712484000-1712493000@igfchurch.com
SUMMARY:Sunday Service
DESCRIPTION:Worship with us every Sunday Morning in person or online at 10:00 am EST! Our service will be online available on Youtube!
URL:https://igfchurch.com/event/sunday-service-2023-12-31-2024-04-07/
LOCATION:IGF Santuary\, 650 Park Ave\, Windsor\, CT\, 06095\, United States
CATEGORIES:Upcoming Events
ATTACH;FMTTYPE=image/jpeg:https://igfchurch.com/wp-content/uploads/2021/01/March-events_sunday-scaled.jpg
END:VEVENT
BEGIN:VEVENT
DTSTART;TZID=America/New_York:20240331T100000
DTEND;TZID=America/New_York:20240331T123000
DTSTAMP:20260419T111937
CREATED:20210104T180416Z
LAST-MODIFIED:20240213T162111Z
UID:4588-1711879200-1711888200@igfchurch.com
SUMMARY:Sunday Service
DESCRIPTION:Worship with us every Sunday Morning in person or online at 10:00 am EST! Our service will be online available on Youtube!
URL:https://igfchurch.com/event/sunday-service-2023-12-31-2024-03-31/
LOCATION:IGF Santuary\, 650 Park Ave\, Windsor\, CT\, 06095\, United States
CATEGORIES:Upcoming Events
ATTACH;FMTTYPE=image/jpeg:https://igfchurch.com/wp-content/uploads/2021/01/March-events_sunday-scaled.jpg
END:VEVENT
BEGIN:VEVENT
DTSTART;TZID=America/New_York:20240324T100000
DTEND;TZID=America/New_York:20240324T123000
DTSTAMP:20260419T111937
CREATED:20210104T180416Z
LAST-MODIFIED:20240213T162110Z
UID:4587-1711274400-1711283400@igfchurch.com
SUMMARY:Sunday Service
DESCRIPTION:Worship with us every Sunday Morning in person or online at 10:00 am EST! Our service will be online available on Youtube!
URL:https://igfchurch.com/event/sunday-service-2023-12-31-2024-03-24/
LOCATION:IGF Santuary\, 650 Park Ave\, Windsor\, CT\, 06095\, United States
CATEGORIES:Upcoming Events
ATTACH;FMTTYPE=image/jpeg:https://igfchurch.com/wp-content/uploads/2021/01/March-events_sunday-scaled.jpg
END:VEVENT
BEGIN:VEVENT
DTSTART;TZID=America/New_York:20240317T100000
DTEND;TZID=America/New_York:20240317T123000
DTSTAMP:20260419T111937
CREATED:20210104T180416Z
LAST-MODIFIED:20240213T162110Z
UID:4586-1710669600-1710678600@igfchurch.com
SUMMARY:Sunday Service
DESCRIPTION:Worship with us every Sunday Morning in person or online at 10:00 am EST! Our service will be online available on Youtube!
URL:https://igfchurch.com/event/sunday-service-2023-12-31-2024-03-17/
LOCATION:IGF Santuary\, 650 Park Ave\, Windsor\, CT\, 06095\, United States
CATEGORIES:Upcoming Events
ATTACH;FMTTYPE=image/jpeg:https://igfchurch.com/wp-content/uploads/2021/01/March-events_sunday-scaled.jpg
END:VEVENT
BEGIN:VEVENT
DTSTART;TZID=America/New_York:20240310T100000
DTEND;TZID=America/New_York:20240310T123000
DTSTAMP:20260419T111937
CREATED:20210104T180416Z
LAST-MODIFIED:20240213T162102Z
UID:4585-1710064800-1710073800@igfchurch.com
SUMMARY:Sunday Service
DESCRIPTION:Worship with us every Sunday Morning in person or online at 10:00 am EST! Our service will be online available on Youtube!
URL:https://igfchurch.com/event/sunday-service-2023-12-31-2024-03-10/
LOCATION:IGF Santuary\, 650 Park Ave\, Windsor\, CT\, 06095\, United States
CATEGORIES:Upcoming Events
ATTACH;FMTTYPE=image/jpeg:https://igfchurch.com/wp-content/uploads/2021/01/March-events_sunday-scaled.jpg
END:VEVENT
BEGIN:VEVENT
DTSTART;TZID=America/New_York:20240303T100000
DTEND;TZID=America/New_York:20240303T123000
DTSTAMP:20260419T111937
CREATED:20210104T180416Z
LAST-MODIFIED:20240213T162101Z
UID:4584-1709460000-1709469000@igfchurch.com
SUMMARY:Sunday Service
DESCRIPTION:Worship with us every Sunday Morning in person or online at 10:00 am EST! Our service will be online available on Youtube!
URL:https://igfchurch.com/event/sunday-service-2023-12-31-2024-03-03/
LOCATION:IGF Santuary\, 650 Park Ave\, Windsor\, CT\, 06095\, United States
CATEGORIES:Upcoming Events
ATTACH;FMTTYPE=image/jpeg:https://igfchurch.com/wp-content/uploads/2021/01/March-events_sunday-scaled.jpg
END:VEVENT
BEGIN:VEVENT
DTSTART;TZID=America/New_York:20240225T100000
DTEND;TZID=America/New_York:20240225T123000
DTSTAMP:20260419T111937
CREATED:20210104T180416Z
LAST-MODIFIED:20240213T162101Z
UID:4583-1708855200-1708864200@igfchurch.com
SUMMARY:Sunday Service
DESCRIPTION:Worship with us every Sunday Morning in person or online at 10:00 am EST! Our service will be online available on Youtube!
URL:https://igfchurch.com/event/sunday-service-2023-12-31-2024-02-25/
LOCATION:IGF Santuary\, 650 Park Ave\, Windsor\, CT\, 06095\, United States
CATEGORIES:Upcoming Events
ATTACH;FMTTYPE=image/jpeg:https://igfchurch.com/wp-content/uploads/2021/01/March-events_sunday-scaled.jpg
END:VEVENT
BEGIN:VEVENT
DTSTART;TZID=America/New_York:20240218T100000
DTEND;TZID=America/New_York:20240218T123000
DTSTAMP:20260419T111937
CREATED:20210104T180416Z
LAST-MODIFIED:20240213T162100Z
UID:4582-1708250400-1708259400@igfchurch.com
SUMMARY:Sunday Service
DESCRIPTION:Worship with us every Sunday Morning in person or online at 10:00 am EST! Our service will be online available on Youtube!
URL:https://igfchurch.com/event/sunday-service-2023-12-31-2024-02-18/
LOCATION:IGF Santuary\, 650 Park Ave\, Windsor\, CT\, 06095\, United States
CATEGORIES:Upcoming Events
ATTACH;FMTTYPE=image/jpeg:https://igfchurch.com/wp-content/uploads/2021/01/March-events_sunday-scaled.jpg
END:VEVENT
BEGIN:VEVENT
DTSTART;TZID=America/New_York:20240211T100000
DTEND;TZID=America/New_York:20240211T123000
DTSTAMP:20260419T111937
CREATED:20210104T180416Z
LAST-MODIFIED:20240213T162100Z
UID:4581-1707645600-1707654600@igfchurch.com
SUMMARY:Sunday Service
DESCRIPTION:Worship with us every Sunday Morning in person or online at 10:00 am EST! Our service will be online available on Youtube!
URL:https://igfchurch.com/event/sunday-service-2023-12-31-2024-02-11/
LOCATION:IGF Santuary\, 650 Park Ave\, Windsor\, CT\, 06095\, United States
CATEGORIES:Upcoming Events
ATTACH;FMTTYPE=image/jpeg:https://igfchurch.com/wp-content/uploads/2021/01/March-events_sunday-scaled.jpg
END:VEVENT
BEGIN:VEVENT
DTSTART;TZID=America/New_York:20240204T100000
DTEND;TZID=America/New_York:20240204T123000
DTSTAMP:20260419T111937
CREATED:20210104T180416Z
LAST-MODIFIED:20240213T162059Z
UID:4580-1707040800-1707049800@igfchurch.com
SUMMARY:Sunday Service
DESCRIPTION:Worship with us every Sunday Morning in person or online at 10:00 am EST! Our service will be online available on Youtube!
URL:https://igfchurch.com/event/sunday-service-2023-12-31-2024-02-04/
LOCATION:IGF Santuary\, 650 Park Ave\, Windsor\, CT\, 06095\, United States
CATEGORIES:Upcoming Events
ATTACH;FMTTYPE=image/jpeg:https://igfchurch.com/wp-content/uploads/2021/01/March-events_sunday-scaled.jpg
END:VEVENT
BEGIN:VEVENT
DTSTART;TZID=America/New_York:20240128T100000
DTEND;TZID=America/New_York:20240128T123000
DTSTAMP:20260419T111937
CREATED:20210104T180416Z
LAST-MODIFIED:20240213T162059Z
UID:4579-1706436000-1706445000@igfchurch.com
SUMMARY:Sunday Service
DESCRIPTION:Worship with us every Sunday Morning in person or online at 10:00 am EST! Our service will be online available on Youtube!
URL:https://igfchurch.com/event/sunday-service-2023-12-31-2024-01-28/
LOCATION:IGF Santuary\, 650 Park Ave\, Windsor\, CT\, 06095\, United States
CATEGORIES:Upcoming Events
ATTACH;FMTTYPE=image/jpeg:https://igfchurch.com/wp-content/uploads/2021/01/March-events_sunday-scaled.jpg
END:VEVENT
BEGIN:VEVENT
DTSTART;TZID=America/New_York:20240121T100000
DTEND;TZID=America/New_York:20240121T123000
DTSTAMP:20260419T111937
CREATED:20210104T180416Z
LAST-MODIFIED:20240213T162059Z
UID:4578-1705831200-1705840200@igfchurch.com
SUMMARY:Sunday Service
DESCRIPTION:Worship with us every Sunday Morning in person or online at 10:00 am EST! Our service will be online available on Youtube!
URL:https://igfchurch.com/event/sunday-service-2023-12-31-2024-01-21/
LOCATION:IGF Santuary\, 650 Park Ave\, Windsor\, CT\, 06095\, United States
CATEGORIES:Upcoming Events
ATTACH;FMTTYPE=image/jpeg:https://igfchurch.com/wp-content/uploads/2021/01/March-events_sunday-scaled.jpg
END:VEVENT
BEGIN:VEVENT
DTSTART;TZID=America/New_York:20240114T100000
DTEND;TZID=America/New_York:20240114T123000
DTSTAMP:20260419T111937
CREATED:20210104T180416Z
LAST-MODIFIED:20240213T162058Z
UID:4577-1705226400-1705235400@igfchurch.com
SUMMARY:Sunday Service
DESCRIPTION:Worship with us every Sunday Morning in person or online at 10:00 am EST! Our service will be online available on Youtube!
URL:https://igfchurch.com/event/sunday-service-2023-12-31-2024-01-14/
LOCATION:IGF Santuary\, 650 Park Ave\, Windsor\, CT\, 06095\, United States
CATEGORIES:Upcoming Events
ATTACH;FMTTYPE=image/jpeg:https://igfchurch.com/wp-content/uploads/2021/01/March-events_sunday-scaled.jpg
END:VEVENT
BEGIN:VEVENT
DTSTART;TZID=America/New_York:20231231T100000
DTEND;TZID=America/New_York:20231231T123000
DTSTAMP:20260419T111937
CREATED:20210104T180416Z
LAST-MODIFIED:20240213T162058Z
UID:4142-1704016800-1704025800@igfchurch.com
SUMMARY:Sunday Service
DESCRIPTION:Worship with us every Sunday Morning in person or online at 10:00 am EST! Our service will be online available on Youtube!
URL:https://igfchurch.com/event/sunday-service-2023-12-31/
LOCATION:IGF Santuary\, 650 Park Ave\, Windsor\, CT\, 06095\, United States
CATEGORIES:Upcoming Events
ATTACH;FMTTYPE=image/jpeg:https://igfchurch.com/wp-content/uploads/2021/01/March-events_sunday-scaled.jpg
END:VEVENT
END:VCALENDAR