BEGIN:VCALENDAR
VERSION:2.0
PRODID:-//International Gospel Fellowship - ECPv6.15.20//NONSGML v1.0//EN
CALSCALE:GREGORIAN
METHOD:PUBLISH
X-ORIGINAL-URL:https://igfchurch.com
X-WR-CALDESC:Events for International Gospel Fellowship
REFRESH-INTERVAL;VALUE=DURATION:PT1H
X-Robots-Tag:noindex
X-PUBLISHED-TTL:PT1H
BEGIN:VTIMEZONE
TZID:America/New_York
BEGIN:DAYLIGHT
TZOFFSETFROM:-0500
TZOFFSETTO:-0400
TZNAME:EDT
DTSTART:20240310T070000
END:DAYLIGHT
BEGIN:STANDARD
TZOFFSETFROM:-0400
TZOFFSETTO:-0500
TZNAME:EST
DTSTART:20241103T060000
END:STANDARD
BEGIN:DAYLIGHT
TZOFFSETFROM:-0500
TZOFFSETTO:-0400
TZNAME:EDT
DTSTART:20250309T070000
END:DAYLIGHT
BEGIN:STANDARD
TZOFFSETFROM:-0400
TZOFFSETTO:-0500
TZNAME:EST
DTSTART:20251102T060000
END:STANDARD
BEGIN:DAYLIGHT
TZOFFSETFROM:-0500
TZOFFSETTO:-0400
TZNAME:EDT
DTSTART:20260308T070000
END:DAYLIGHT
BEGIN:STANDARD
TZOFFSETFROM:-0400
TZOFFSETTO:-0500
TZNAME:EST
DTSTART:20261101T060000
END:STANDARD
BEGIN:DAYLIGHT
TZOFFSETFROM:-0500
TZOFFSETTO:-0400
TZNAME:EDT
DTSTART:20270314T070000
END:DAYLIGHT
BEGIN:STANDARD
TZOFFSETFROM:-0400
TZOFFSETTO:-0500
TZNAME:EST
DTSTART:20271107T060000
END:STANDARD
END:VTIMEZONE
BEGIN:VEVENT
DTSTART;TZID=America/New_York:20260412T100000
DTEND;TZID=America/New_York:20260412T123000
DTSTAMP:20260419T094940
CREATED:20210104T180416Z
LAST-MODIFIED:20210104T180416Z
UID:4898-1775988000-1775997000@igfchurch.com
SUMMARY:Sunday Service
DESCRIPTION:Worship with us every Sunday Morning in person or online at 10:00 am EST! Our service will be online available on Youtube!
URL:https://igfchurch.com/event/sunday-service-2023-12-31-2026-04-12/
LOCATION:IGF Santuary\, 650 Park Ave\, Windsor\, CT\, 06095\, United States
CATEGORIES:Upcoming Events
ATTACH;FMTTYPE=image/jpeg:https://igfchurch.com/wp-content/uploads/2021/01/March-events_sunday-scaled.jpg
END:VEVENT
BEGIN:VEVENT
DTSTART;TZID=America/New_York:20260412T100000
DTEND;TZID=America/New_York:20260412T100000
DTSTAMP:20260419T094940
CREATED:20210104T180416Z
LAST-MODIFIED:20210104T180416Z
UID:4897-1775988000-1775988000@igfchurch.com
SUMMARY:Sunday Service
DESCRIPTION:Worship with us every Sunday Morning in person or online at 10:00 am EST! Our service will be online available on Youtube!
URL:https://igfchurch.com/event/sunday-service-2026-02-08-2026-04-12/
LOCATION:IGF Santuary\, 650 Park Ave\, Windsor\, CT\, 06095\, United States
CATEGORIES:Upcoming Events
ATTACH;FMTTYPE=image/jpeg:https://igfchurch.com/wp-content/uploads/2021/01/March-events_sunday-scaled.jpg
END:VEVENT
BEGIN:VEVENT
DTSTART;TZID=America/New_York:20260405T100000
DTEND;TZID=America/New_York:20260405T123000
DTSTAMP:20260419T094940
CREATED:20210104T180416Z
LAST-MODIFIED:20210104T180416Z
UID:4890-1775383200-1775392200@igfchurch.com
SUMMARY:Sunday Service
DESCRIPTION:Worship with us every Sunday Morning in person or online at 10:00 am EST! Our service will be online available on Youtube!
URL:https://igfchurch.com/event/sunday-service-2023-12-31-2026-04-05/
LOCATION:IGF Santuary\, 650 Park Ave\, Windsor\, CT\, 06095\, United States
CATEGORIES:Upcoming Events
ATTACH;FMTTYPE=image/jpeg:https://igfchurch.com/wp-content/uploads/2021/01/March-events_sunday-scaled.jpg
END:VEVENT
BEGIN:VEVENT
DTSTART;TZID=America/New_York:20260405T100000
DTEND;TZID=America/New_York:20260405T100000
DTSTAMP:20260419T094940
CREATED:20210104T180416Z
LAST-MODIFIED:20210104T180416Z
UID:4889-1775383200-1775383200@igfchurch.com
SUMMARY:Sunday Service
DESCRIPTION:Worship with us every Sunday Morning in person or online at 10:00 am EST! Our service will be online available on Youtube!
URL:https://igfchurch.com/event/sunday-service-2026-02-08-2026-04-05/
LOCATION:IGF Santuary\, 650 Park Ave\, Windsor\, CT\, 06095\, United States
CATEGORIES:Upcoming Events
ATTACH;FMTTYPE=image/jpeg:https://igfchurch.com/wp-content/uploads/2021/01/March-events_sunday-scaled.jpg
END:VEVENT
BEGIN:VEVENT
DTSTART;TZID=America/New_York:20260329T100000
DTEND;TZID=America/New_York:20260329T123000
DTSTAMP:20260419T094940
CREATED:20210104T180416Z
LAST-MODIFIED:20210104T180416Z
UID:4879-1774778400-1774787400@igfchurch.com
SUMMARY:Sunday Service
DESCRIPTION:Worship with us every Sunday Morning in person or online at 10:00 am EST! Our service will be online available on Youtube!
URL:https://igfchurch.com/event/sunday-service-2023-12-31-2026-03-29/
LOCATION:IGF Santuary\, 650 Park Ave\, Windsor\, CT\, 06095\, United States
CATEGORIES:Upcoming Events
ATTACH;FMTTYPE=image/jpeg:https://igfchurch.com/wp-content/uploads/2021/01/March-events_sunday-scaled.jpg
END:VEVENT
BEGIN:VEVENT
DTSTART;TZID=America/New_York:20260329T100000
DTEND;TZID=America/New_York:20260329T100000
DTSTAMP:20260419T094940
CREATED:20210104T180416Z
LAST-MODIFIED:20210104T180416Z
UID:4878-1774778400-1774778400@igfchurch.com
SUMMARY:Sunday Service
DESCRIPTION:Worship with us every Sunday Morning in person or online at 10:00 am EST! Our service will be online available on Youtube!
URL:https://igfchurch.com/event/sunday-service-2026-02-08-2026-03-29/
LOCATION:IGF Santuary\, 650 Park Ave\, Windsor\, CT\, 06095\, United States
CATEGORIES:Upcoming Events
ATTACH;FMTTYPE=image/jpeg:https://igfchurch.com/wp-content/uploads/2021/01/March-events_sunday-scaled.jpg
END:VEVENT
BEGIN:VEVENT
DTSTART;TZID=America/New_York:20260322T100000
DTEND;TZID=America/New_York:20260322T123000
DTSTAMP:20260419T094940
CREATED:20210104T180416Z
LAST-MODIFIED:20210104T180416Z
UID:4870-1774173600-1774182600@igfchurch.com
SUMMARY:Sunday Service
DESCRIPTION:Worship with us every Sunday Morning in person or online at 10:00 am EST! Our service will be online available on Youtube!
URL:https://igfchurch.com/event/sunday-service-2023-12-31-2026-03-22/
LOCATION:IGF Santuary\, 650 Park Ave\, Windsor\, CT\, 06095\, United States
CATEGORIES:Upcoming Events
ATTACH;FMTTYPE=image/jpeg:https://igfchurch.com/wp-content/uploads/2021/01/March-events_sunday-scaled.jpg
END:VEVENT
BEGIN:VEVENT
DTSTART;TZID=America/New_York:20260322T100000
DTEND;TZID=America/New_York:20260322T100000
DTSTAMP:20260419T094940
CREATED:20210104T180416Z
LAST-MODIFIED:20210104T180416Z
UID:4869-1774173600-1774173600@igfchurch.com
SUMMARY:Sunday Service
DESCRIPTION:Worship with us every Sunday Morning in person or online at 10:00 am EST! Our service will be online available on Youtube!
URL:https://igfchurch.com/event/sunday-service-2026-02-08-2026-03-22/
LOCATION:IGF Santuary\, 650 Park Ave\, Windsor\, CT\, 06095\, United States
CATEGORIES:Upcoming Events
ATTACH;FMTTYPE=image/jpeg:https://igfchurch.com/wp-content/uploads/2021/01/March-events_sunday-scaled.jpg
END:VEVENT
BEGIN:VEVENT
DTSTART;TZID=America/New_York:20260315T100000
DTEND;TZID=America/New_York:20260315T123000
DTSTAMP:20260419T094940
CREATED:20210104T180416Z
LAST-MODIFIED:20210104T180416Z
UID:4863-1773568800-1773577800@igfchurch.com
SUMMARY:Sunday Service
DESCRIPTION:Worship with us every Sunday Morning in person or online at 10:00 am EST! Our service will be online available on Youtube!
URL:https://igfchurch.com/event/sunday-service-2023-12-31-2026-03-15/
LOCATION:IGF Santuary\, 650 Park Ave\, Windsor\, CT\, 06095\, United States
CATEGORIES:Upcoming Events
ATTACH;FMTTYPE=image/jpeg:https://igfchurch.com/wp-content/uploads/2021/01/March-events_sunday-scaled.jpg
END:VEVENT
BEGIN:VEVENT
DTSTART;TZID=America/New_York:20260315T100000
DTEND;TZID=America/New_York:20260315T100000
DTSTAMP:20260419T094940
CREATED:20210104T180416Z
LAST-MODIFIED:20210104T180416Z
UID:4862-1773568800-1773568800@igfchurch.com
SUMMARY:Sunday Service
DESCRIPTION:Worship with us every Sunday Morning in person or online at 10:00 am EST! Our service will be online available on Youtube!
URL:https://igfchurch.com/event/sunday-service-2026-02-08-2026-03-15/
LOCATION:IGF Santuary\, 650 Park Ave\, Windsor\, CT\, 06095\, United States
CATEGORIES:Upcoming Events
ATTACH;FMTTYPE=image/jpeg:https://igfchurch.com/wp-content/uploads/2021/01/March-events_sunday-scaled.jpg
END:VEVENT
BEGIN:VEVENT
DTSTART;TZID=America/New_York:20260308T100000
DTEND;TZID=America/New_York:20260308T123000
DTSTAMP:20260419T094940
CREATED:20210104T180416Z
LAST-MODIFIED:20210104T180416Z
UID:4843-1772964000-1772973000@igfchurch.com
SUMMARY:Sunday Service
DESCRIPTION:Worship with us every Sunday Morning in person or online at 10:00 am EST! Our service will be online available on Youtube!
URL:https://igfchurch.com/event/sunday-service-2023-12-31-2026-03-08/
LOCATION:IGF Santuary\, 650 Park Ave\, Windsor\, CT\, 06095\, United States
CATEGORIES:Upcoming Events
ATTACH;FMTTYPE=image/jpeg:https://igfchurch.com/wp-content/uploads/2021/01/March-events_sunday-scaled.jpg
END:VEVENT
BEGIN:VEVENT
DTSTART;TZID=America/New_York:20260308T100000
DTEND;TZID=America/New_York:20260308T100000
DTSTAMP:20260419T094940
CREATED:20210104T180416Z
LAST-MODIFIED:20210104T180416Z
UID:4842-1772964000-1772964000@igfchurch.com
SUMMARY:Sunday Service
DESCRIPTION:Worship with us every Sunday Morning in person or online at 10:00 am EST! Our service will be online available on Youtube!
URL:https://igfchurch.com/event/sunday-service-2026-02-08-2026-03-08/
LOCATION:IGF Santuary\, 650 Park Ave\, Windsor\, CT\, 06095\, United States
CATEGORIES:Upcoming Events
ATTACH;FMTTYPE=image/jpeg:https://igfchurch.com/wp-content/uploads/2021/01/March-events_sunday-scaled.jpg
END:VEVENT
BEGIN:VEVENT
DTSTART;TZID=America/New_York:20260301T100000
DTEND;TZID=America/New_York:20260301T123000
DTSTAMP:20260419T094940
CREATED:20210104T180416Z
LAST-MODIFIED:20210104T180416Z
UID:4826-1772359200-1772368200@igfchurch.com
SUMMARY:Sunday Service
DESCRIPTION:Worship with us every Sunday Morning in person or online at 10:00 am EST! Our service will be online available on Youtube!
URL:https://igfchurch.com/event/sunday-service-2023-12-31-2026-03-01/
LOCATION:IGF Santuary\, 650 Park Ave\, Windsor\, CT\, 06095\, United States
CATEGORIES:Upcoming Events
ATTACH;FMTTYPE=image/jpeg:https://igfchurch.com/wp-content/uploads/2021/01/March-events_sunday-scaled.jpg
END:VEVENT
BEGIN:VEVENT
DTSTART;TZID=America/New_York:20260301T100000
DTEND;TZID=America/New_York:20260301T100000
DTSTAMP:20260419T094940
CREATED:20210104T180416Z
LAST-MODIFIED:20210104T180416Z
UID:4825-1772359200-1772359200@igfchurch.com
SUMMARY:Sunday Service
DESCRIPTION:Worship with us every Sunday Morning in person or online at 10:00 am EST! Our service will be online available on Youtube!
URL:https://igfchurch.com/event/sunday-service-2026-02-08-2026-03-01/
LOCATION:IGF Santuary\, 650 Park Ave\, Windsor\, CT\, 06095\, United States
CATEGORIES:Upcoming Events
ATTACH;FMTTYPE=image/jpeg:https://igfchurch.com/wp-content/uploads/2021/01/March-events_sunday-scaled.jpg
END:VEVENT
BEGIN:VEVENT
DTSTART;TZID=America/New_York:20260222T100000
DTEND;TZID=America/New_York:20260222T123000
DTSTAMP:20260419T094940
CREATED:20210104T180416Z
LAST-MODIFIED:20210104T180416Z
UID:4815-1771754400-1771763400@igfchurch.com
SUMMARY:Sunday Service
DESCRIPTION:Worship with us every Sunday Morning in person or online at 10:00 am EST! Our service will be online available on Youtube!
URL:https://igfchurch.com/event/sunday-service-2023-12-31-2026-02-22/
LOCATION:IGF Santuary\, 650 Park Ave\, Windsor\, CT\, 06095\, United States
CATEGORIES:Upcoming Events
ATTACH;FMTTYPE=image/jpeg:https://igfchurch.com/wp-content/uploads/2021/01/March-events_sunday-scaled.jpg
END:VEVENT
BEGIN:VEVENT
DTSTART;TZID=America/New_York:20260222T100000
DTEND;TZID=America/New_York:20260222T100000
DTSTAMP:20260419T094940
CREATED:20210104T180416Z
LAST-MODIFIED:20210104T180416Z
UID:4814-1771754400-1771754400@igfchurch.com
SUMMARY:Sunday Service
DESCRIPTION:Worship with us every Sunday Morning in person or online at 10:00 am EST! Our service will be online available on Youtube!
URL:https://igfchurch.com/event/sunday-service-2026-02-08-2026-02-22/
LOCATION:IGF Santuary\, 650 Park Ave\, Windsor\, CT\, 06095\, United States
CATEGORIES:Upcoming Events
ATTACH;FMTTYPE=image/jpeg:https://igfchurch.com/wp-content/uploads/2021/01/March-events_sunday-scaled.jpg
END:VEVENT
BEGIN:VEVENT
DTSTART;TZID=America/New_York:20260215T100000
DTEND;TZID=America/New_York:20260215T123000
DTSTAMP:20260419T094940
CREATED:20210104T180416Z
LAST-MODIFIED:20210104T180416Z
UID:4808-1771149600-1771158600@igfchurch.com
SUMMARY:Sunday Service
DESCRIPTION:Worship with us every Sunday Morning in person or online at 10:00 am EST! Our service will be online available on Youtube!
URL:https://igfchurch.com/event/sunday-service-2023-12-31-2026-02-15/
LOCATION:IGF Santuary\, 650 Park Ave\, Windsor\, CT\, 06095\, United States
CATEGORIES:Upcoming Events
ATTACH;FMTTYPE=image/jpeg:https://igfchurch.com/wp-content/uploads/2021/01/March-events_sunday-scaled.jpg
END:VEVENT
BEGIN:VEVENT
DTSTART;TZID=America/New_York:20260215T100000
DTEND;TZID=America/New_York:20260215T100000
DTSTAMP:20260419T094940
CREATED:20210104T180416Z
LAST-MODIFIED:20210104T180416Z
UID:4807-1771149600-1771149600@igfchurch.com
SUMMARY:Sunday Service
DESCRIPTION:Worship with us every Sunday Morning in person or online at 10:00 am EST! Our service will be online available on Youtube!
URL:https://igfchurch.com/event/sunday-service-2026-02-08-2026-02-15/
LOCATION:IGF Santuary\, 650 Park Ave\, Windsor\, CT\, 06095\, United States
CATEGORIES:Upcoming Events
ATTACH;FMTTYPE=image/jpeg:https://igfchurch.com/wp-content/uploads/2021/01/March-events_sunday-scaled.jpg
END:VEVENT
BEGIN:VEVENT
DTSTART;TZID=America/New_York:20260208T100000
DTEND;TZID=America/New_York:20260208T123000
DTSTAMP:20260419T094940
CREATED:20210104T180416Z
LAST-MODIFIED:20240213T162151Z
UID:4685-1770544800-1770553800@igfchurch.com
SUMMARY:Sunday Service
DESCRIPTION:Worship with us every Sunday Morning in person or online at 10:00 am EST! Our service will be online available on Youtube!
URL:https://igfchurch.com/event/sunday-service-2023-12-31-2026-02-08/
LOCATION:IGF Santuary\, 650 Park Ave\, Windsor\, CT\, 06095\, United States
CATEGORIES:Upcoming Events
ATTACH;FMTTYPE=image/jpeg:https://igfchurch.com/wp-content/uploads/2021/01/March-events_sunday-scaled.jpg
END:VEVENT
BEGIN:VEVENT
DTSTART;TZID=America/New_York:20260208T100000
DTEND;TZID=America/New_York:20260208T100000
DTSTAMP:20260419T094940
CREATED:20210104T180416Z
LAST-MODIFIED:20240213T161046Z
UID:4252-1770544800-1770544800@igfchurch.com
SUMMARY:Sunday Service
DESCRIPTION:Worship with us every Sunday Morning in person or online at 10:00 am EST! Our service will be online available on Youtube!
URL:https://igfchurch.com/event/sunday-service-2026-02-08/
LOCATION:IGF Santuary\, 650 Park Ave\, Windsor\, CT\, 06095\, United States
CATEGORIES:Upcoming Events
ATTACH;FMTTYPE=image/jpeg:https://igfchurch.com/wp-content/uploads/2021/01/March-events_sunday-scaled.jpg
END:VEVENT
BEGIN:VEVENT
DTSTART;TZID=America/New_York:20260201T100000
DTEND;TZID=America/New_York:20260201T123000
DTSTAMP:20260419T094940
CREATED:20210104T180416Z
LAST-MODIFIED:20240213T162151Z
UID:4684-1769940000-1769949000@igfchurch.com
SUMMARY:Sunday Service
DESCRIPTION:Worship with us every Sunday Morning in person or online at 10:00 am EST! Our service will be online available on Youtube!
URL:https://igfchurch.com/event/sunday-service-2023-12-31-2026-02-01/
LOCATION:IGF Santuary\, 650 Park Ave\, Windsor\, CT\, 06095\, United States
CATEGORIES:Upcoming Events
ATTACH;FMTTYPE=image/jpeg:https://igfchurch.com/wp-content/uploads/2021/01/March-events_sunday-scaled.jpg
END:VEVENT
BEGIN:VEVENT
DTSTART;TZID=America/New_York:20260125T100000
DTEND;TZID=America/New_York:20260125T123000
DTSTAMP:20260419T094940
CREATED:20210104T180416Z
LAST-MODIFIED:20240213T162151Z
UID:4683-1769335200-1769344200@igfchurch.com
SUMMARY:Sunday Service
DESCRIPTION:Worship with us every Sunday Morning in person or online at 10:00 am EST! Our service will be online available on Youtube!
URL:https://igfchurch.com/event/sunday-service-2023-12-31-2026-01-25/
LOCATION:IGF Santuary\, 650 Park Ave\, Windsor\, CT\, 06095\, United States
CATEGORIES:Upcoming Events
ATTACH;FMTTYPE=image/jpeg:https://igfchurch.com/wp-content/uploads/2021/01/March-events_sunday-scaled.jpg
END:VEVENT
BEGIN:VEVENT
DTSTART;TZID=America/New_York:20260118T100000
DTEND;TZID=America/New_York:20260118T123000
DTSTAMP:20260419T094940
CREATED:20210104T180416Z
LAST-MODIFIED:20240213T162151Z
UID:4682-1768730400-1768739400@igfchurch.com
SUMMARY:Sunday Service
DESCRIPTION:Worship with us every Sunday Morning in person or online at 10:00 am EST! Our service will be online available on Youtube!
URL:https://igfchurch.com/event/sunday-service-2023-12-31-2026-01-18/
LOCATION:IGF Santuary\, 650 Park Ave\, Windsor\, CT\, 06095\, United States
CATEGORIES:Upcoming Events
ATTACH;FMTTYPE=image/jpeg:https://igfchurch.com/wp-content/uploads/2021/01/March-events_sunday-scaled.jpg
END:VEVENT
BEGIN:VEVENT
DTSTART;TZID=America/New_York:20260111T100000
DTEND;TZID=America/New_York:20260111T123000
DTSTAMP:20260419T094940
CREATED:20210104T180416Z
LAST-MODIFIED:20240213T162150Z
UID:4681-1768125600-1768134600@igfchurch.com
SUMMARY:Sunday Service
DESCRIPTION:Worship with us every Sunday Morning in person or online at 10:00 am EST! Our service will be online available on Youtube!
URL:https://igfchurch.com/event/sunday-service-2023-12-31-2026-01-11/
LOCATION:IGF Santuary\, 650 Park Ave\, Windsor\, CT\, 06095\, United States
CATEGORIES:Upcoming Events
ATTACH;FMTTYPE=image/jpeg:https://igfchurch.com/wp-content/uploads/2021/01/March-events_sunday-scaled.jpg
END:VEVENT
BEGIN:VEVENT
DTSTART;TZID=America/New_York:20260104T100000
DTEND;TZID=America/New_York:20260104T123000
DTSTAMP:20260419T094940
CREATED:20210104T180416Z
LAST-MODIFIED:20240213T162150Z
UID:4680-1767520800-1767529800@igfchurch.com
SUMMARY:Sunday Service
DESCRIPTION:Worship with us every Sunday Morning in person or online at 10:00 am EST! Our service will be online available on Youtube!
URL:https://igfchurch.com/event/sunday-service-2023-12-31-2026-01-04/
LOCATION:IGF Santuary\, 650 Park Ave\, Windsor\, CT\, 06095\, United States
CATEGORIES:Upcoming Events
ATTACH;FMTTYPE=image/jpeg:https://igfchurch.com/wp-content/uploads/2021/01/March-events_sunday-scaled.jpg
END:VEVENT
BEGIN:VEVENT
DTSTART;TZID=America/New_York:20251228T100000
DTEND;TZID=America/New_York:20251228T123000
DTSTAMP:20260419T094940
CREATED:20210104T180416Z
LAST-MODIFIED:20240213T162150Z
UID:4679-1766916000-1766925000@igfchurch.com
SUMMARY:Sunday Service
DESCRIPTION:Worship with us every Sunday Morning in person or online at 10:00 am EST! Our service will be online available on Youtube!
URL:https://igfchurch.com/event/sunday-service-2023-12-31-2025-12-28/
LOCATION:IGF Santuary\, 650 Park Ave\, Windsor\, CT\, 06095\, United States
CATEGORIES:Upcoming Events
ATTACH;FMTTYPE=image/jpeg:https://igfchurch.com/wp-content/uploads/2021/01/March-events_sunday-scaled.jpg
END:VEVENT
BEGIN:VEVENT
DTSTART;TZID=America/New_York:20251221T100000
DTEND;TZID=America/New_York:20251221T123000
DTSTAMP:20260419T094940
CREATED:20210104T180416Z
LAST-MODIFIED:20240213T162150Z
UID:4678-1766311200-1766320200@igfchurch.com
SUMMARY:Sunday Service
DESCRIPTION:Worship with us every Sunday Morning in person or online at 10:00 am EST! Our service will be online available on Youtube!
URL:https://igfchurch.com/event/sunday-service-2023-12-31-2025-12-21/
LOCATION:IGF Santuary\, 650 Park Ave\, Windsor\, CT\, 06095\, United States
CATEGORIES:Upcoming Events
ATTACH;FMTTYPE=image/jpeg:https://igfchurch.com/wp-content/uploads/2021/01/March-events_sunday-scaled.jpg
END:VEVENT
BEGIN:VEVENT
DTSTART;TZID=America/New_York:20251214T100000
DTEND;TZID=America/New_York:20251214T123000
DTSTAMP:20260419T094940
CREATED:20210104T180416Z
LAST-MODIFIED:20240213T162149Z
UID:4677-1765706400-1765715400@igfchurch.com
SUMMARY:Sunday Service
DESCRIPTION:Worship with us every Sunday Morning in person or online at 10:00 am EST! Our service will be online available on Youtube!
URL:https://igfchurch.com/event/sunday-service-2023-12-31-2025-12-14/
LOCATION:IGF Santuary\, 650 Park Ave\, Windsor\, CT\, 06095\, United States
CATEGORIES:Upcoming Events
ATTACH;FMTTYPE=image/jpeg:https://igfchurch.com/wp-content/uploads/2021/01/March-events_sunday-scaled.jpg
END:VEVENT
BEGIN:VEVENT
DTSTART;TZID=America/New_York:20251207T100000
DTEND;TZID=America/New_York:20251207T123000
DTSTAMP:20260419T094940
CREATED:20210104T180416Z
LAST-MODIFIED:20240213T162149Z
UID:4676-1765101600-1765110600@igfchurch.com
SUMMARY:Sunday Service
DESCRIPTION:Worship with us every Sunday Morning in person or online at 10:00 am EST! Our service will be online available on Youtube!
URL:https://igfchurch.com/event/sunday-service-2023-12-31-2025-12-07/
LOCATION:IGF Santuary\, 650 Park Ave\, Windsor\, CT\, 06095\, United States
CATEGORIES:Upcoming Events
ATTACH;FMTTYPE=image/jpeg:https://igfchurch.com/wp-content/uploads/2021/01/March-events_sunday-scaled.jpg
END:VEVENT
BEGIN:VEVENT
DTSTART;TZID=America/New_York:20251130T100000
DTEND;TZID=America/New_York:20251130T123000
DTSTAMP:20260419T094940
CREATED:20210104T180416Z
LAST-MODIFIED:20240213T162148Z
UID:4675-1764496800-1764505800@igfchurch.com
SUMMARY:Sunday Service
DESCRIPTION:Worship with us every Sunday Morning in person or online at 10:00 am EST! Our service will be online available on Youtube!
URL:https://igfchurch.com/event/sunday-service-2023-12-31-2025-11-30/
LOCATION:IGF Santuary\, 650 Park Ave\, Windsor\, CT\, 06095\, United States
CATEGORIES:Upcoming Events
ATTACH;FMTTYPE=image/jpeg:https://igfchurch.com/wp-content/uploads/2021/01/March-events_sunday-scaled.jpg
END:VEVENT
END:VCALENDAR