BEGIN:VCALENDAR
VERSION:2.0
PRODID:-//International Gospel Fellowship - ECPv6.15.20//NONSGML v1.0//EN
CALSCALE:GREGORIAN
METHOD:PUBLISH
X-ORIGINAL-URL:https://igfchurch.com
X-WR-CALDESC:Events for International Gospel Fellowship
REFRESH-INTERVAL;VALUE=DURATION:PT1H
X-Robots-Tag:noindex
X-PUBLISHED-TTL:PT1H
BEGIN:VTIMEZONE
TZID:America/New_York
BEGIN:DAYLIGHT
TZOFFSETFROM:-0500
TZOFFSETTO:-0400
TZNAME:EDT
DTSTART:20240310T070000
END:DAYLIGHT
BEGIN:STANDARD
TZOFFSETFROM:-0400
TZOFFSETTO:-0500
TZNAME:EST
DTSTART:20241103T060000
END:STANDARD
BEGIN:DAYLIGHT
TZOFFSETFROM:-0500
TZOFFSETTO:-0400
TZNAME:EDT
DTSTART:20250309T070000
END:DAYLIGHT
BEGIN:STANDARD
TZOFFSETFROM:-0400
TZOFFSETTO:-0500
TZNAME:EST
DTSTART:20251102T060000
END:STANDARD
BEGIN:DAYLIGHT
TZOFFSETFROM:-0500
TZOFFSETTO:-0400
TZNAME:EDT
DTSTART:20260308T070000
END:DAYLIGHT
BEGIN:STANDARD
TZOFFSETFROM:-0400
TZOFFSETTO:-0500
TZNAME:EST
DTSTART:20261101T060000
END:STANDARD
END:VTIMEZONE
BEGIN:VEVENT
DTSTART;TZID=America/New_York:20250927T170000
DTEND;TZID=America/New_York:20250927T190000
DTSTAMP:20260420T044029
CREATED:20250904T142645Z
LAST-MODIFIED:20250904T142645Z
UID:5793-1758992400-1758999600@igfchurch.com
SUMMARY:IGF Church 25th Anniversary
DESCRIPTION:
URL:https://igfchurch.com/event/igf-church-25th-anniversary/
LOCATION:IGF Santuary\, 650 Park Ave\, Windsor\, CT\, 06095\, United States
ATTACH;FMTTYPE=image/png:https://igfchurch.com/wp-content/uploads/2025/09/Anniversary.png
END:VEVENT
END:VCALENDAR