BEGIN:VCALENDAR
VERSION:2.0
PRODID:-//International Gospel Fellowship - ECPv6.15.20//NONSGML v1.0//EN
CALSCALE:GREGORIAN
METHOD:PUBLISH
X-WR-CALNAME:International Gospel Fellowship
X-ORIGINAL-URL:https://igfchurch.com
X-WR-CALDESC:Events for International Gospel Fellowship
REFRESH-INTERVAL;VALUE=DURATION:PT1H
X-Robots-Tag:noindex
X-PUBLISHED-TTL:PT1H
BEGIN:VTIMEZONE
TZID:America/New_York
BEGIN:DAYLIGHT
TZOFFSETFROM:-0500
TZOFFSETTO:-0400
TZNAME:EDT
DTSTART:20210314T070000
END:DAYLIGHT
BEGIN:STANDARD
TZOFFSETFROM:-0400
TZOFFSETTO:-0500
TZNAME:EST
DTSTART:20211107T060000
END:STANDARD
BEGIN:DAYLIGHT
TZOFFSETFROM:-0500
TZOFFSETTO:-0400
TZNAME:EDT
DTSTART:20220313T070000
END:DAYLIGHT
BEGIN:STANDARD
TZOFFSETFROM:-0400
TZOFFSETTO:-0500
TZNAME:EST
DTSTART:20221106T060000
END:STANDARD
BEGIN:DAYLIGHT
TZOFFSETFROM:-0500
TZOFFSETTO:-0400
TZNAME:EDT
DTSTART:20230312T070000
END:DAYLIGHT
BEGIN:STANDARD
TZOFFSETFROM:-0400
TZOFFSETTO:-0500
TZNAME:EST
DTSTART:20231105T060000
END:STANDARD
END:VTIMEZONE
BEGIN:VEVENT
DTSTART;TZID=America/New_York:20220828T123000
DTEND;TZID=America/New_York:20220828T133000
DTSTAMP:20260423T205606
CREATED:20210104T182552Z
LAST-MODIFIED:20220823T160826Z
UID:2053-1661689800-1661693400@igfchurch.com
SUMMARY:Youth Meetings
DESCRIPTION:Make sure your teens don’t miss out on our weekly Bible Study just for them!  Contact the church for more information.
URL:https://igfchurch.com/event/youth-meeting/
LOCATION:IGF Santuary\, 650 Park Ave\, Windsor\, CT\, 06095\, United States
ATTACH;FMTTYPE=image/jpeg:https://igfchurch.com/wp-content/uploads/2021/01/events_graphics-scaled.jpg
END:VEVENT
END:VCALENDAR